BEGIN:VCALENDAR
VERSION:2.0
PRODID:-//ActionCOACH - ECPv6.15.11//NONSGML v1.0//EN
CALSCALE:GREGORIAN
METHOD:PUBLISH
X-WR-CALNAME:ActionCOACH
X-ORIGINAL-URL:https://actioncoach.ca
X-WR-CALDESC:Events for ActionCOACH
REFRESH-INTERVAL;VALUE=DURATION:PT1H
X-Robots-Tag:noindex
X-PUBLISHED-TTL:PT1H
BEGIN:VTIMEZONE
TZID:America/Edmonton
BEGIN:DAYLIGHT
TZOFFSETFROM:-0700
TZOFFSETTO:-0600
TZNAME:MDT
DTSTART:20250309T090000
END:DAYLIGHT
BEGIN:STANDARD
TZOFFSETFROM:-0600
TZOFFSETTO:-0700
TZNAME:MST
DTSTART:20251102T080000
END:STANDARD
BEGIN:DAYLIGHT
TZOFFSETFROM:-0700
TZOFFSETTO:-0600
TZNAME:MDT
DTSTART:20260308T090000
END:DAYLIGHT
BEGIN:STANDARD
TZOFFSETFROM:-0600
TZOFFSETTO:-0700
TZNAME:MST
DTSTART:20261101T080000
END:STANDARD
BEGIN:DAYLIGHT
TZOFFSETFROM:-0700
TZOFFSETTO:-0600
TZNAME:MDT
DTSTART:20270314T090000
END:DAYLIGHT
BEGIN:STANDARD
TZOFFSETFROM:-0600
TZOFFSETTO:-0700
TZNAME:MST
DTSTART:20271107T080000
END:STANDARD
END:VTIMEZONE
BEGIN:VEVENT
DTSTART;TZID=America/Edmonton:20260619T074500
DTEND;TZID=America/Edmonton:20260619T160000
DTSTAMP:20260421T023319
CREATED:20260202T200815Z
LAST-MODIFIED:20260202T200815Z
UID:2565-1781855100-1781884800@actioncoach.ca
SUMMARY:Your 90-Day Action Plan – Plan your second quarter of 2026
DESCRIPTION:June 19th at 7:45 am – 4:00 pm \nEach quarter for a year\, you will dedicate one day to your business to prepare the ground for the next 90. Our Coach will guide you through this process and show you how to build a useful and effective action plan\, and most importantly\, one that will be followed. \n \n 
URL:https://actioncoach.ca/event/your-90-day-action-plan-plan-your-second-quarter-of-2026-2/
LOCATION:Pavillon Gene-H.-Kruger – Université Laval\, 2425 De la Terrasse St\, Québec City\, Quebec\, G1V 0A6\, Canada
CATEGORIES:Growth Club
ATTACH;FMTTYPE=image/jpeg:https://actioncoach.ca/wp-content/uploads/2026/01/ActionCoach-10.jpeg
ORGANIZER;CN="ActionCOACH Coaching D'Affaires Quebec":MAILTO:actionquebec@actioncoach.com
END:VEVENT
BEGIN:VEVENT
DTSTART;TZID=America/Edmonton:20260622T080000
DTEND;TZID=America/Edmonton:20260622T150000
DTSTAMP:20260421T023319
CREATED:20260204T135521Z
LAST-MODIFIED:20260204T135521Z
UID:2743-1782115200-1782140400@actioncoach.ca
SUMMARY:GrowthCLUB 90 Day Planning Workshop - Annual Alignment
DESCRIPTION:Online Event\n22 Jun 08:00 AM \nUntil 22 Jun\, 03:00 PM 7h \nJoin us at GrowthCLUB\, a 90 day planning workshop for entrepreneurs where you will gain practical and actionable strategies that will help you create a focused and effective business plan. You will be able to lay out your goals and plan out the specific steps needed to achieve them. \n \n  \nScan QR Code
URL:https://actioncoach.ca/event/growthclub-90-day-planning-workshop-annual-alignment-2/
LOCATION:online
CATEGORIES:Growth Club
ATTACH;FMTTYPE=image/jpeg:https://actioncoach.ca/wp-content/uploads/2026/02/Event-Banner-GrowthCLUB-2-2.jpeg
ORGANIZER;CN="Avid ActionCOACH":MAILTO:info@avidactioncoach.com
END:VEVENT
BEGIN:VEVENT
DTSTART;TZID=America/Edmonton:20260622T080000
DTEND;TZID=America/Edmonton:20260622T150000
DTSTAMP:20260421T023319
CREATED:20260204T163811Z
LAST-MODIFIED:20260204T163811Z
UID:2769-1782115200-1782140400@actioncoach.ca
SUMMARY:GrowthCLUB 90 Day Planning Workshop
DESCRIPTION:22 Jun 08:00 AM \nUntil 22 Jun\, 03:00 PM 7h \nOnline Event\nJoin us at GrowthCLUB\, a 90 day planning workshop for entrepreneurs where you will gain practical and actionable strategies that will help you create a focused and effective business plan. You will be able to lay out your goals and plan out the specific steps needed to achieve them.
URL:https://actioncoach.ca/event/growthclub-90-day-planning-workshop-7/
LOCATION:online
CATEGORIES:Growth Club
ATTACH;FMTTYPE=image/jpeg:https://actioncoach.ca/wp-content/uploads/2026/02/Event-Banner-GrowthCLUB-2-2.jpeg
ORGANIZER;CN="Avid ActionCOACH":MAILTO:info@avidactioncoach.com
END:VEVENT
BEGIN:VEVENT
DTSTART;TZID=America/Edmonton:20260918T073000
DTEND;TZID=America/Edmonton:20260918T163000
DTSTAMP:20260421T023319
CREATED:20260204T143643Z
LAST-MODIFIED:20260204T143643Z
UID:2751-1789716600-1789749000@actioncoach.ca
SUMMARY:GrowthCLUB 90 Day Planning Workshop
DESCRIPTION:18 Sep 07:30 AM \nUntil 18 Sep\, 04:30 PM 9h \nSandman Signature Langley Hotel\n8828 201 Street Langley Township\, BC V2Y 0C8 \nOrganized by\nAndrew Bull\nDarrick Boyes\nMarijke van Holsteijn\nPatrick Vuong \nJoin us at GrowthCLUB\, a 90 day planning workshop for entrepreneurs where you will gain practical and actionable strategies that will help you create a focused and effective business plan. You will be able to lay out your goals and plan out the specific steps needed to achieve them. \n \nScan QR Code
URL:https://actioncoach.ca/event/growthclub-90-day-planning-workshop-2/
LOCATION:Sandman Signature Langley Hotel\, 8828 201 St\, Langley Township\, British Columbia\, V2Y 0C8\, Canada
CATEGORIES:Growth Club
ATTACH;FMTTYPE=image/jpeg:https://actioncoach.ca/wp-content/uploads/2026/02/Event-Banner-GrowthCLUB-2-2.jpeg
ORGANIZER;CN="Avid ActionCOACH":MAILTO:info@avidactioncoach.com
END:VEVENT
BEGIN:VEVENT
DTSTART;TZID=America/Edmonton:20260921T080000
DTEND;TZID=America/Edmonton:20260921T150000
DTSTAMP:20260421T023319
CREATED:20260204T154456Z
LAST-MODIFIED:20260204T154456Z
UID:2756-1789977600-1790002800@actioncoach.ca
SUMMARY:GrowthCLUB 90 Day Planning Workshop
DESCRIPTION:Online\n21 Sep 08:00 AM\nUntil 21 Sep\, 03:00 PM 7h \nJoin us at GrowthCLUB\, a 90 day planning workshop for entrepreneurs where you will gain practical and actionable strategies that will help you create a focused and effective business plan. You will be able to lay out your goals and plan out the specific steps needed to achieve them. \n \nScan QR Code
URL:https://actioncoach.ca/event/growthclub-90-day-planning-workshop-3/
LOCATION:online
CATEGORIES:Growth Club
ATTACH;FMTTYPE=image/jpeg:https://actioncoach.ca/wp-content/uploads/2026/02/Event-Banner-GrowthCLUB-2-2.jpeg
ORGANIZER;CN="Avid ActionCOACH":MAILTO:info@avidactioncoach.com
END:VEVENT
BEGIN:VEVENT
DTSTART;TZID=America/Edmonton:20261211T073000
DTEND;TZID=America/Edmonton:20261211T163000
DTSTAMP:20260421T023319
CREATED:20260204T155335Z
LAST-MODIFIED:20260205T110957Z
UID:2760-1796974200-1797006600@actioncoach.ca
SUMMARY:GrowthCLUB 90 Day Planning Workshop
DESCRIPTION:11 Dec 07:30 AM \nUntil 11 Dec\, 04:30 PM 9h \nIn-Person Event \nSandman Signature Langley Hotel\n8828 201 Street Langley Township\, BC V2Y 0C8 \nOrganized by\nAndrew Bull \nDarrick Boyes \nMarijke van Holsteijn \nPatrick Vuong \nJoin us at GrowthCLUB\, a 90 day planning workshop for entrepreneurs where you will gain practical and actionable strategies that will help you create a focused and effective business plan. You will be able to lay out your goals and plan out the specific steps needed to achieve them.
URL:https://actioncoach.ca/event/growthclub-90-day-planning-workshop-4/
LOCATION:Sandman Signature Langley Hotel\, 8828 201 St\, Langley Township\, British Columbia\, V2Y 0C8\, Canada
CATEGORIES:Growth Club
ATTACH;FMTTYPE=image/jpeg:https://actioncoach.ca/wp-content/uploads/2026/02/Event-Banner-GrowthCLUB-2-2.jpeg
ORGANIZER;CN="Avid ActionCOACH":MAILTO:info@avidactioncoach.com
END:VEVENT
BEGIN:VEVENT
DTSTART;TZID=America/Edmonton:20261214T080000
DTEND;TZID=America/Edmonton:20261214T150000
DTSTAMP:20260421T023319
CREATED:20260204T160333Z
LAST-MODIFIED:20260205T110505Z
UID:2763-1797235200-1797260400@actioncoach.ca
SUMMARY:GrowthCLUB 90 Day Planning Workshop
DESCRIPTION:14 Dec 08:00 AM \nUntil 14 Dec\, 03:00 PM 7h \nOnline Event\nJoin us at GrowthCLUB\, a 90 day planning workshop for entrepreneurs where you will gain practical and actionable strategies that will help you create a focused and effective business plan. You will be able to lay out your goals and plan out the specific steps needed to achieve them.
URL:https://actioncoach.ca/event/growthclub-90-day-planning-workshop-5/
LOCATION:online
CATEGORIES:Growth Club
ATTACH;FMTTYPE=image/jpeg:https://actioncoach.ca/wp-content/uploads/2026/02/Event-Banner-GrowthCLUB-2-2.jpeg
ORGANIZER;CN="Avid ActionCOACH":MAILTO:info@avidactioncoach.com
END:VEVENT
END:VCALENDAR